BEGIN:VCALENDAR
VERSION:2.0
PRODID:-//Bhamjees Bonsmara - ECPv6.13.2.1//NONSGML v1.0//EN
CALSCALE:GREGORIAN
METHOD:PUBLISH
X-WR-CALNAME:Bhamjees Bonsmara
X-ORIGINAL-URL:https://bhamjeesbonsmara.co.za
X-WR-CALDESC:Events for Bhamjees Bonsmara
REFRESH-INTERVAL;VALUE=DURATION:PT1H
X-Robots-Tag:noindex
X-PUBLISHED-TTL:PT1H
BEGIN:VTIMEZONE
TZID:UTC
BEGIN:STANDARD
TZOFFSETFROM:+0000
TZOFFSETTO:+0000
TZNAME:UTC
DTSTART:20240101T000000
END:STANDARD
END:VTIMEZONE
BEGIN:VEVENT
DTSTART;TZID=UTC:20240122T113000
DTEND;TZID=UTC:20240122T170000
DTSTAMP:20260420T114747
CREATED:20240121T221908Z
LAST-MODIFIED:20240121T222146Z
UID:334935-1705923000-1705942800@bhamjeesbonsmara.co.za
SUMMARY:Bonsmara Auction
DESCRIPTION:LOT14 A top bull with an excellent mother look at the genetic it’s surely talks for himself………HOEVELD BONSMARA GROEP VEILING – 6 SEPTEMBER – JONKERSDAM https://goo.gl/maps/GaJYfMVD86Ng2XYZ6\nVir ons FOTOKATALOGUS kliek op die skakel: \nOns bulseleksie video: https://youtu.be/T9jfOvEI3Bc\nVir meer inligting skakel\nBhamjee Bonsmara – Ahmed Bhamjee – 0768108672\nBloukraan Bonsmaras – Abraham Manser – 0824410465\nBonga Bonsmara – Pieter Lourens – 0829363931\nBonro Bonsmaras – Paul Roos – 0725083409\nRJ Bonsmaras – Rikus De La Rey – 0828558280\nSyferfontein Bonsmaras – Nico Pieterse – 0828531525\n\n\nSWIFTVEE: \nBKB
URL:https://bhamjeesbonsmara.co.za/event/bonsmara-aution/
LOCATION:Bhamjees\, Carolina\, Mpumalanga\, 017\, South Africa
CATEGORIES:Auctions
ATTACH;FMTTYPE=image/jpeg:https://bhamjeesbonsmara.co.za/wp-content/uploads/2024/01/374839595_3488478714753398_431323406194051593_n.jpg
END:VEVENT
END:VCALENDAR